BEGIN:VCALENDAR
VERSION:2.0
PRODID:icalendar-ruby
CALSCALE:GREGORIAN
METHOD:PUBLISH
BEGIN:VEVENT
DTSTAMP:20260423T144453Z
UID:200-3278351@trinitybaptist.ca
DTSTART:20260426T190000Z
DTEND:20260426T200000Z
CLASS:PUBLIC
CREATED:20260406T134759
DESCRIPTION:Members and adherents are encouraged to join us after the congr
 egational lunch for our QBM (Quarterly Business Meeting).  
LAST-MODIFIED:20260406T134759
LOCATION:Fellowship Hall (downstairs)
SUMMARY:Quarterly Business Meeting
URL;VALUE=URI:https://www.trinitybaptist.ca/events/quarterly-business-meeti
 ng--200/2026-04-26
ATTACH;FILENAME=2014_QuarterlyBusinessMtg.001.jpg;FMTTYPE=image/jpeg:https:
 //dq5pwpg1q8ru0.cloudfront.net/2025/04/14/14/56/29/4ac0d161-6fbc-4ac2-8c5e
 -b24e75cab0b0/2014_QuarterlyBusinessMtg.001.jpg
END:VEVENT
END:VCALENDAR
